BEGIN:VCALENDAR
VERSION:2.0
PRODID:-//eventon.com NONSGML v1.0//EN
CALSCALE:GREGORIAN
METHOD:PUBLISH
BEGIN:VEVENT
UID:69eb2696ef0db
DTSTAMP:20260424T081518Z
DTSTART:20240118T160000Z
DTEND:20240118T180000Z
LOCATION:
SUMMARY:Cpa 1 - Vicariato 4
DESCRIPTION:\nhttps://www.visitapastoralepiacenzabobbio.org/events/cpa-1-vi
 cariato-4-6/
URL:https://www.visitapastoralepiacenzabobbio.org/events/cpa-1-vicariato-4-6/
END:VEVENT
END:VCALENDAR