BEGIN:VCALENDAR
VERSION:2.0
PRODID:-//eventon.com NONSGML v1.0//EN
CALSCALE:GREGORIAN
METHOD:PUBLISH
BEGIN:VEVENT
UID:69ea92cf7f5ad
DTSTAMP:20260423T214447Z
DTSTART:20240119T220000Z
DTEND:20240119T110000Z
LOCATION:
SUMMARY:Cpa 1 - Vicariato 4
DESCRIPTION:\nhttps://www.visitapastoralepiacenzabobbio.org/events/cpa-1-vi
 cariato-4-9/
URL:https://www.visitapastoralepiacenzabobbio.org/events/cpa-1-vicariato-4-9/
END:VEVENT
END:VCALENDAR