BEGIN:VCALENDAR
VERSION:2.0
PRODID:-//eventon.com NONSGML v1.0//EN
CALSCALE:GREGORIAN
METHOD:PUBLISH
BEGIN:VEVENT
UID:69e9a49f7cf2f
DTSTAMP:20260423T044831Z
DTSTART:20240121T200000Z
DTEND:20240121T213000Z
LOCATION:
SUMMARY:Cpa 1 - Vicariato 4
DESCRIPTION:\nhttps://www.visitapastoralepiacenzabobbio.org/events/cpa-1-vi
 cariato-4-21/
URL:https://www.visitapastoralepiacenzabobbio.org/events/cpa-1-vicariato-4-21/
END:VEVENT
END:VCALENDAR