BEGIN:VCALENDAR
VERSION:2.0
PRODID:-//eventon.com NONSGML v1.0//EN
CALSCALE:GREGORIAN
METHOD:PUBLISH
BEGIN:VEVENT
UID:69e733c703ec7
DTSTAMP:20260421T082231Z
DTSTART:20240208T193000Z
DTEND:20240208T210000Z
LOCATION:
SUMMARY:Cpa 2 - Vicariato 4
DESCRIPTION:\nhttps://www.visitapastoralepiacenzabobbio.org/events/cpa-2-vi
 cariato-4-8/
URL:https://www.visitapastoralepiacenzabobbio.org/events/cpa-2-vicariato-4-8/
END:VEVENT
END:VCALENDAR