BEGIN:VCALENDAR
VERSION:2.0
PRODID:-//eventon.com NONSGML v1.0//EN
CALSCALE:GREGORIAN
METHOD:PUBLISH
BEGIN:VEVENT
UID:69e98e8e107e3
DTSTAMP:20260423T031422Z
DTSTART:20240211T170000Z
DTEND:20240211T180000Z
LOCATION:
SUMMARY:Cpa 2 - Vicariato 4
DESCRIPTION:\nhttps://www.visitapastoralepiacenzabobbio.org/events/cpa-2-vi
 cariato-4-19/
URL:https://www.visitapastoralepiacenzabobbio.org/events/cpa-2-vicariato-4-19/
END:VEVENT
END:VCALENDAR