BEGIN:VCALENDAR
VERSION:2.0
PRODID:-//eventon.com NONSGML v1.0//EN
CALSCALE:GREGORIAN
METHOD:PUBLISH
BEGIN:VEVENT
UID:69e4a93c5294a
DTSTAMP:20260419T100652Z
DTSTART:20240221T090000Z
DTEND:20240220T230000Z
LOCATION:
SUMMARY:Cpa 1 - Vicariato 7
DESCRIPTION:\nhttps://www.visitapastoralepiacenzabobbio.org/events/cpa-1-vi
 cariato-7/
URL:https://www.visitapastoralepiacenzabobbio.org/events/cpa-1-vicariato-7/
END:VEVENT
END:VCALENDAR