BEGIN:VCALENDAR
VERSION:2.0
PRODID:-//eventon.com NONSGML v1.0//EN
CALSCALE:GREGORIAN
METHOD:PUBLISH
BEGIN:VEVENT
UID:69e5e2c0ca2aa
DTSTAMP:20260420T082432Z
DTSTART:20240221T160000Z
DTEND:20240221T170000Z
LOCATION:
SUMMARY:Cpa 1 - Vicariato 7
DESCRIPTION:\nhttps://www.visitapastoralepiacenzabobbio.org/events/cpa-1-vi
 cariato-7-2/
URL:https://www.visitapastoralepiacenzabobbio.org/events/cpa-1-vicariato-7-2/
END:VEVENT
END:VCALENDAR