BEGIN:VCALENDAR
VERSION:2.0
PRODID:-//eventon.com NONSGML v1.0//EN
CALSCALE:GREGORIAN
METHOD:PUBLISH
BEGIN:VEVENT
UID:69eceb18ee8d3
DTSTAMP:20260425T162600Z
DTSTART:20240224T093000Z
DTEND:20240223T230000Z
LOCATION:
SUMMARY:Cpa 1 - Vicariato 7
DESCRIPTION:\nhttps://www.visitapastoralepiacenzabobbio.org/events/cpa-1-vi
 cariato-7-14/
URL:https://www.visitapastoralepiacenzabobbio.org/events/cpa-1-vicariato-7-14/
END:VEVENT
END:VCALENDAR