BEGIN:VCALENDAR
VERSION:2.0
PRODID:-//eventon.com NONSGML v1.0//EN
CALSCALE:GREGORIAN
METHOD:PUBLISH
BEGIN:VEVENT
UID:69ea534e833e1
DTSTAMP:20260423T171350Z
DTSTART:20240307T083000Z
DTEND:20240307T100000Z
LOCATION:
SUMMARY:Cpa 3 - Vicariato 7
DESCRIPTION:\nhttps://www.visitapastoralepiacenzabobbio.org/events/cpa-3-vi
 cariato-7-7/
URL:https://www.visitapastoralepiacenzabobbio.org/events/cpa-3-vicariato-7-7/
END:VEVENT
END:VCALENDAR