BEGIN:VCALENDAR
VERSION:2.0
PRODID:-//eventon.com NONSGML v1.0//EN
CALSCALE:GREGORIAN
METHOD:PUBLISH
BEGIN:VEVENT
UID:69ec96584607c
DTSTAMP:20260425T102424Z
DTSTART:20240309T143000Z
DTEND:20240309T153000Z
LOCATION:
SUMMARY:Cpa 3 - Vicariato 7
DESCRIPTION:\nhttps://www.visitapastoralepiacenzabobbio.org/events/cpa-3-vi
 cariato-7-17/
URL:https://www.visitapastoralepiacenzabobbio.org/events/cpa-3-vicariato-7-17/
END:VEVENT
END:VCALENDAR