BEGIN:VCALENDAR
VERSION:2.0
PRODID:-//eventon.com NONSGML v1.0//EN
CALSCALE:GREGORIAN
METHOD:PUBLISH
BEGIN:VEVENT
UID:69e95bc6984cc
DTSTAMP:20260422T233742Z
DTSTART:20240316T083000Z
DTEND:20240316T093000Z
LOCATION:
SUMMARY:Cpa 2 - Vicariato 7
DESCRIPTION:\nhttps://www.visitapastoralepiacenzabobbio.org/events/cpa-2-vi
 cariato-7-15/
URL:https://www.visitapastoralepiacenzabobbio.org/events/cpa-2-vicariato-7-15/
END:VEVENT
END:VCALENDAR