BEGIN:VCALENDAR
VERSION:2.0
PRODID:-//eventon.com NONSGML v1.0//EN
CALSCALE:GREGORIAN
METHOD:PUBLISH
BEGIN:VEVENT
UID:69eb3c741d053
DTSTAMP:20260424T094836Z
DTSTART:20240424T063000Z
DTEND:20240424T070000Z
LOCATION:
SUMMARY:Vicariato 3 - Cpa 3
DESCRIPTION:\nhttps://www.visitapastoralepiacenzabobbio.org/events/vicariat
 o-3-cpa-3/
URL:https://www.visitapastoralepiacenzabobbio.org/events/vicariato-3-cpa-3/
END:VEVENT
END:VCALENDAR