BEGIN:VCALENDAR
VERSION:2.0
PRODID:-//eventon.com NONSGML v1.0//EN
CALSCALE:GREGORIAN
METHOD:PUBLISH
BEGIN:VEVENT
UID:69ea2e50becac
DTSTAMP:20260423T143600Z
DTSTART:20240426T190000Z
DTEND:20240426T203000Z
LOCATION:
SUMMARY:vicariato 3 - cpa 3
DESCRIPTION:\nhttps://www.visitapastoralepiacenzabobbio.org/events/vicariat
 o-3-cpa-3-17/
URL:https://www.visitapastoralepiacenzabobbio.org/events/vicariato-3-cpa-3-17/
END:VEVENT
END:VCALENDAR