BEGIN:VCALENDAR
VERSION:2.0
PRODID:-//eventon.com NONSGML v1.0//EN
CALSCALE:GREGORIAN
METHOD:PUBLISH
BEGIN:VEVENT
UID:69eab61f89560
DTSTAMP:20260424T001527Z
DTSTART:20240427T163000Z
DTEND:20240427T180000Z
LOCATION:
SUMMARY:vicariato 3 - cpa 3
DESCRIPTION:\nhttps://www.visitapastoralepiacenzabobbio.org/events/vicariat
 o-3-cpa-3-22/
URL:https://www.visitapastoralepiacenzabobbio.org/events/vicariato-3-cpa-3-22/
END:VEVENT
END:VCALENDAR