BEGIN:VCALENDAR
VERSION:2.0
PRODID:-//eventon.com NONSGML v1.0//EN
CALSCALE:GREGORIAN
METHOD:PUBLISH
BEGIN:VEVENT
UID:69eb291059bd9
DTSTAMP:20260424T082552Z
DTSTART:20240428T153000Z
DTEND:20240428T163000Z
LOCATION:
SUMMARY:vicariato 3 - cpa 3
DESCRIPTION:\nhttps://www.visitapastoralepiacenzabobbio.org/events/vicariat
 o-3-cpa-3-27/
URL:https://www.visitapastoralepiacenzabobbio.org/events/vicariato-3-cpa-3-27/
END:VEVENT
END:VCALENDAR