BEGIN:VCALENDAR
VERSION:2.0
PRODID:-//eventon.com NONSGML v1.0//EN
CALSCALE:GREGORIAN
METHOD:PUBLISH
BEGIN:VEVENT
UID:69e8dcf04cec4
DTSTAMP:20260422T143632Z
DTSTART:20240505T083000Z
DTEND:20240505T093000Z
LOCATION:
SUMMARY:Vicariato 3 - Cpa 5
DESCRIPTION:\nhttps://www.visitapastoralepiacenzabobbio.org/events/vicariat
 o-3-cpa-5-13/
URL:https://www.visitapastoralepiacenzabobbio.org/events/vicariato-3-cpa-5-13/
END:VEVENT
END:VCALENDAR