BEGIN:VCALENDAR
VERSION:2.0
PRODID:-//eventon.com NONSGML v1.0//EN
CALSCALE:GREGORIAN
METHOD:PUBLISH
BEGIN:VEVENT
UID:69e9eee7af3e0
DTSTAMP:20260423T100527Z
DTSTART:20240509T143000Z
DTEND:20240509T153000Z
LOCATION:
SUMMARY:Vicariato 3 - Cpa 4
DESCRIPTION:\nhttps://www.visitapastoralepiacenzabobbio.org/events/vicariat
 o-3-cpa-4-7/
URL:https://www.visitapastoralepiacenzabobbio.org/events/vicariato-3-cpa-4-7/
END:VEVENT
END:VCALENDAR