BEGIN:VCALENDAR
VERSION:2.0
PRODID:-//eventon.com NONSGML v1.0//EN
CALSCALE:GREGORIAN
METHOD:PUBLISH
BEGIN:VEVENT
UID:69e9a8d90ada5
DTSTAMP:20260423T050633Z
DTSTART:20240511T070000Z
DTEND:20240511T090000Z
LOCATION:
SUMMARY:Vicariato 3 - Cpa 4
DESCRIPTION:\nhttps://www.visitapastoralepiacenzabobbio.org/events/vicariat
 o-3-cpa-4-16/
URL:https://www.visitapastoralepiacenzabobbio.org/events/vicariato-3-cpa-4-16/
END:VEVENT
END:VCALENDAR