BEGIN:VCALENDAR
VERSION:2.0
PRODID:-//eventon.com NONSGML v1.0//EN
CALSCALE:GREGORIAN
METHOD:PUBLISH
BEGIN:VEVENT
UID:69ece6e62e73a
DTSTAMP:20260425T160806Z
DTSTART:20240605T184500Z
DTEND:20240605T200000Z
LOCATION:
SUMMARY:Cpa 4 - Vicariato 6
DESCRIPTION:\nhttps://www.visitapastoralepiacenzabobbio.org/events/cpa-4-vi
 cariato-6-4/
URL:https://www.visitapastoralepiacenzabobbio.org/events/cpa-4-vicariato-6-4/
END:VEVENT
END:VCALENDAR