BEGIN:VCALENDAR
VERSION:2.0
PRODID:-//eventon.com NONSGML v1.0//EN
CALSCALE:GREGORIAN
METHOD:PUBLISH
BEGIN:VEVENT
UID:69e940f377fed
DTSTAMP:20260422T214315Z
DTSTART:20240607T063000Z
DTEND:20240607T070000Z
LOCATION:
SUMMARY:Cpa 4 - Vicariato 6
DESCRIPTION:\nhttps://www.visitapastoralepiacenzabobbio.org/events/cpa-4-vi
 cariato-6-11/
URL:https://www.visitapastoralepiacenzabobbio.org/events/cpa-4-vicariato-6-11/
END:VEVENT
END:VCALENDAR