BEGIN:VCALENDAR
VERSION:2.0
PRODID:-//eventon.com NONSGML v1.0//EN
CALSCALE:GREGORIAN
METHOD:PUBLISH
BEGIN:VEVENT
UID:69ea2a53585ef
DTSTAMP:20260423T141859Z
DTSTART:20240615T130000Z
DTEND:20240615T140000Z
LOCATION:
SUMMARY:Cpa 1 - Vicariato 6
DESCRIPTION:\nhttps://www.visitapastoralepiacenzabobbio.org/events/cpa-1-vi
 cariato-6-15/
URL:https://www.visitapastoralepiacenzabobbio.org/events/cpa-1-vicariato-6-15/
END:VEVENT
END:VCALENDAR