BEGIN:VCALENDAR
VERSION:2.0
PRODID:-//eventon.com NONSGML v1.0//EN
CALSCALE:GREGORIAN
METHOD:PUBLISH
BEGIN:VEVENT
UID:69eba6b2b678e
DTSTAMP:20260424T172154Z
DTSTART:20240616T160000Z
DTEND:20240616T170000Z
LOCATION:
SUMMARY:Cpa 1 - Vicariato 6
DESCRIPTION:\nhttps://www.visitapastoralepiacenzabobbio.org/events/cpa-1-vi
 cariato-6-20/
URL:https://www.visitapastoralepiacenzabobbio.org/events/cpa-1-vicariato-6-20/
END:VEVENT
END:VCALENDAR