BEGIN:VCALENDAR
VERSION:2.0
PRODID:-//eventon.com NONSGML v1.0//EN
CALSCALE:GREGORIAN
METHOD:PUBLISH
BEGIN:VEVENT
UID:69e5af25ce862
DTSTAMP:20260420T044421Z
DTSTART:20241008T092600Z
DTEND:20241008T092600Z
LOCATION:
SUMMARY:Vicariato 1 - Comunità pastorale 1
DESCRIPTION:10.30: Casa madre Scalabriniani incontro con la koinonia della 
 Cpa1 15.00: Incontro con i bambini del catechismo presso la parrocchia San 
 Paolo 18.00: Celebrazione eucaristica in S. Antonino e incontro con la comu
 nità\nhttps://www.visitapastoralepiacenzabobbio.org/events/vicariato-1-com
 unita-pastorale-1-3/
URL:https://www.visitapastoralepiacenzabobbio.org/events/vicariato-1-comunita-pastorale-1-3/
END:VEVENT
END:VCALENDAR