BEGIN:VCALENDAR
VERSION:2.0
PRODID:-//eventon.com NONSGML v1.0//EN
CALSCALE:GREGORIAN
METHOD:PUBLISH
BEGIN:VEVENT
UID:69ead741bd2e0
DTSTAMP:20260424T023649Z
DTSTART:20241211
DTEND:20241212
LOCATION:
SUMMARY:Comunità pastorale 3 - Vicariato 1
DESCRIPTION:18.30 Borgotrebbia: Incontro con tutti i membri del Consiglio d
 i Comunità pastorale e della Koinonia\nhttps://www.visitapastoralepiacenza
 bobbio.org/events/comunita-pastorale-3-vicariato-1/
URL:https://www.visitapastoralepiacenzabobbio.org/events/comunita-pastorale-3-vicariato-1/
END:VEVENT
END:VCALENDAR