BEGIN:VCALENDAR
VERSION:2.0
PRODID:-//eventon.com NONSGML v1.0//EN
CALSCALE:GREGORIAN
METHOD:PUBLISH
BEGIN:VEVENT
UID:69e731b4570b5
DTSTAMP:20260421T081340Z
DTSTART:20250206
DTEND:20250207
LOCATION:
SUMMARY:Vicariato 2 - Comunità pastorale 1
DESCRIPTION:9.00: Celebrazione eucaristica 15.00: visita alla RSA Verani 16
 .30: Visita all’Ospedale (incontro con il personale) 18.00: Visita al Cen
 tro per persone disabili San Rocco 21.00: Incontro con il mondo del volonta
 riato rivolto alla cura delle persone fragili.\nhttps://www.visitapastorale
 piacenzabobbio.org/events/vicariato-2-comunita-pastorale-1-2/
URL:https://www.visitapastoralepiacenzabobbio.org/events/vicariato-2-comunita-pastorale-1-2/
END:VEVENT
END:VCALENDAR